BEGIN:VCALENDAR
VERSION:2.0
PRODID:-//MCCNI - ECPv6.15.20//NONSGML v1.0//EN
CALSCALE:GREGORIAN
METHOD:PUBLISH
X-WR-CALNAME:MCCNI
X-ORIGINAL-URL:https://mccni.co
X-WR-CALDESC:Events for MCCNI
REFRESH-INTERVAL;VALUE=DURATION:PT1H
X-Robots-Tag:noindex
X-PUBLISHED-TTL:PT1H
BEGIN:VTIMEZONE
TZID:UTC
BEGIN:STANDARD
TZOFFSETFROM:+0000
TZOFFSETTO:+0000
TZNAME:UTC
DTSTART:20250101T000000
END:STANDARD
END:VTIMEZONE
BEGIN:VEVENT
DTSTART;VALUE=DATE:20260704
DTEND;VALUE=DATE:20260705
DTSTAMP:20260424T075218
CREATED:20260218T133542Z
LAST-MODIFIED:20260218T133542Z
UID:2484-1783123200-1783209599@mccni.co
SUMMARY:MCCNI Ulster Championship - Loughbrickland
DESCRIPTION:
URL:https://mccni.co/event/mccni-ulster-championship-loughbrickland/
LOCATION:Loughbrickland MX Track\, On the main carriageway when heading towards Newry\, Loughbrickland\, Down\, Bt341sd\, United Kingdom
ATTACH;FMTTYPE=image/png:https://mccni.co/wp-content/uploads/2013/12/mccni-logo-1.png
END:VEVENT
BEGIN:VEVENT
DTSTART;VALUE=DATE:20260725
DTEND;VALUE=DATE:20260726
DTSTAMP:20260424T075218
CREATED:20260218T134025Z
LAST-MODIFIED:20260218T134025Z
UID:2494-1784937600-1785023999@mccni.co
SUMMARY:Beyond Signage Championship - Laurelbank
DESCRIPTION:
URL:https://mccni.co/event/beyond-signage-championship-laurelbank/
LOCATION:Laurelbank\, Laurelbank Road\, Saintfield\, Northern Ireland\, BT247LT\, United Kingdom
ATTACH;FMTTYPE=image/png:https://mccni.co/wp-content/uploads/2021/06/Screenshot-2021-06-02-at-20.13.32.png
END:VEVENT
END:VCALENDAR