BEGIN:VCALENDAR
VERSION:2.0
PRODID:-//MCCNI - ECPv6.15.20//NONSGML v1.0//EN
CALSCALE:GREGORIAN
METHOD:PUBLISH
X-WR-CALNAME:MCCNI
X-ORIGINAL-URL:https://mccni.co
X-WR-CALDESC:Events for MCCNI
REFRESH-INTERVAL;VALUE=DURATION:PT1H
X-Robots-Tag:noindex
X-PUBLISHED-TTL:PT1H
BEGIN:VTIMEZONE
TZID:UTC
BEGIN:STANDARD
TZOFFSETFROM:+0000
TZOFFSETTO:+0000
TZNAME:UTC
DTSTART:20250101T000000
END:STANDARD
END:VTIMEZONE
BEGIN:VEVENT
DTSTART;VALUE=DATE:20260530
DTEND;VALUE=DATE:20260531
DTSTAMP:20260422T084008
CREATED:20260218T133417Z
LAST-MODIFIED:20260218T133417Z
UID:2480-1780099200-1780185599@mccni.co
SUMMARY:MCCNI Ulster Championship - Sperrins
DESCRIPTION:
URL:https://mccni.co/event/mccni-ulster-championship-sperrins/
LOCATION:Sperrins Motopark\, Barnes Gap Branch\, Gortin\, bt798ns\, United Kingdom
ATTACH;FMTTYPE=image/png:https://mccni.co/wp-content/uploads/2013/12/mccni-logo-1.png
END:VEVENT
BEGIN:VEVENT
DTSTART;VALUE=DATE:20260502
DTEND;VALUE=DATE:20260503
DTSTAMP:20260422T084008
CREATED:20260218T133331Z
LAST-MODIFIED:20260310T201109Z
UID:2478-1777680000-1777766399@mccni.co
SUMMARY:MCCNI Ulster Championship - Tinkerhill
DESCRIPTION:
URL:https://mccni.co/event/mccni-ulster-championship-tbc/
LOCATION:Tinkerhill\, Belfast Road\, Newry\, BT34 1QJ\, United Kingdom
ATTACH;FMTTYPE=image/png:https://mccni.co/wp-content/uploads/2013/12/mccni-logo-1.png
END:VEVENT
BEGIN:VEVENT
DTSTART;VALUE=DATE:20260425
DTEND;VALUE=DATE:20260426
DTSTAMP:20260422T084008
CREATED:20260218T133238Z
LAST-MODIFIED:20260218T133238Z
UID:2476-1777075200-1777161599@mccni.co
SUMMARY:MCCNI Ulster Championship - Tandragee
DESCRIPTION:
URL:https://mccni.co/event/mccni-ulster-championship-tandragee/
LOCATION:Tandragee\, Tannaghmore Road\, Tandragee\, BT62 2LS\, United Kingdom
ATTACH;FMTTYPE=image/png:https://mccni.co/wp-content/uploads/2013/12/mccni-logo-1.png
END:VEVENT
BEGIN:VEVENT
DTSTART;VALUE=DATE:20260411
DTEND;VALUE=DATE:20260412
DTSTAMP:20260422T084008
CREATED:20260218T133755Z
LAST-MODIFIED:20260218T133755Z
UID:2488-1775865600-1775951999@mccni.co
SUMMARY:Beyond Signage Championship - Carnacally
DESCRIPTION:
URL:https://mccni.co/event/beyond-signage-championship-carnacally/
LOCATION:Carnacally\, 1 Carnacally Road\, Newry\, Down\, BT341LX\, United Kingdom
ATTACH;FMTTYPE=image/png:https://mccni.co/wp-content/uploads/2021/06/Screenshot-2021-06-02-at-20.13.32.png
END:VEVENT
BEGIN:VEVENT
DTSTART;VALUE=DATE:20260405
DTEND;VALUE=DATE:20260406
DTSTAMP:20260422T084008
CREATED:20260326T193824Z
LAST-MODIFIED:20260326T193824Z
UID:2503-1775347200-1775433599@mccni.co
SUMMARY:MCCNI Ulster Championship – Magilligan
DESCRIPTION:
URL:https://mccni.co/event/mccni-ulster-championship-magilligan-3/
LOCATION:Magilligan\, 316 Seacoast road\, Bellarena\, Londonderry\, BT49 0JY\, United Kingdom
END:VEVENT
BEGIN:VEVENT
DTSTART;VALUE=DATE:20260321
DTEND;VALUE=DATE:20260322
DTSTAMP:20260422T084008
CREATED:20260218T133153Z
LAST-MODIFIED:20260218T133153Z
UID:2474-1774051200-1774137599@mccni.co
SUMMARY:MCCNI Ulster Championship - Carnacally
DESCRIPTION:
URL:https://mccni.co/event/mccni-ulster-championship-carnacally/
LOCATION:Carnacally\, 1 Carnacally Road\, Newry\, Down\, BT341LX\, United Kingdom
ATTACH;FMTTYPE=image/png:https://mccni.co/wp-content/uploads/2013/12/mccni-logo-1.png
END:VEVENT
BEGIN:VEVENT
DTSTART;VALUE=DATE:20260307
DTEND;VALUE=DATE:20260308
DTSTAMP:20260422T084008
CREATED:20260218T133001Z
LAST-MODIFIED:20260218T133001Z
UID:2472-1772841600-1772927999@mccni.co
SUMMARY:MCCNI Ulster Championship - Magilligan
DESCRIPTION:
URL:https://mccni.co/event/mccni-ulster-championship-magilligan/
LOCATION:Magilligan\, 316 Seacoast road\, Bellarena\, Londonderry\, BT49 0JY\, United Kingdom
ATTACH;FMTTYPE=image/png:https://mccni.co/wp-content/uploads/2013/12/mccni-logo-1.png
END:VEVENT
END:VCALENDAR