BEGIN:VCALENDAR
VERSION:2.0
PRODID:-//MCCNI - ECPv6.15.20//NONSGML v1.0//EN
CALSCALE:GREGORIAN
METHOD:PUBLISH
X-ORIGINAL-URL:http://mccni.co
X-WR-CALDESC:Events for MCCNI
REFRESH-INTERVAL;VALUE=DURATION:PT1H
X-Robots-Tag:noindex
X-PUBLISHED-TTL:PT1H
BEGIN:VTIMEZONE
TZID:UTC
BEGIN:STANDARD
TZOFFSETFROM:+0000
TZOFFSETTO:+0000
TZNAME:UTC
DTSTART:20250101T000000
END:STANDARD
END:VTIMEZONE
BEGIN:VEVENT
DTSTART;VALUE=DATE:20260704
DTEND;VALUE=DATE:20260705
DTSTAMP:20260420T095033
CREATED:20260218T133542Z
LAST-MODIFIED:20260218T133542Z
UID:2484-1783123200-1783209599@mccni.co
SUMMARY:MCCNI Ulster Championship - Loughbrickland
DESCRIPTION:
URL:http://mccni.co/event/mccni-ulster-championship-loughbrickland/
LOCATION:Loughbrickland MX Track\, On the main carriageway when heading towards Newry\, Loughbrickland\, Down\, Bt341sd\, United Kingdom
ATTACH;FMTTYPE=image/png:http://mccni.co/wp-content/uploads/2013/12/mccni-logo-1.png
END:VEVENT
BEGIN:VEVENT
DTSTART;VALUE=DATE:20260725
DTEND;VALUE=DATE:20260726
DTSTAMP:20260420T095033
CREATED:20260218T134025Z
LAST-MODIFIED:20260218T134025Z
UID:2494-1784937600-1785023999@mccni.co
SUMMARY:Beyond Signage Championship - Laurelbank
DESCRIPTION:
URL:http://mccni.co/event/beyond-signage-championship-laurelbank/
LOCATION:Laurelbank\, Laurelbank Road\, Saintfield\, Northern Ireland\, BT247LT\, United Kingdom
ATTACH;FMTTYPE=image/png:http://mccni.co/wp-content/uploads/2021/06/Screenshot-2021-06-02-at-20.13.32.png
END:VEVENT
BEGIN:VEVENT
DTSTART;VALUE=DATE:20260808
DTEND;VALUE=DATE:20260809
DTSTAMP:20260420T095033
CREATED:20260218T134126Z
LAST-MODIFIED:20260218T134126Z
UID:2496-1786147200-1786233599@mccni.co
SUMMARY:George Hoy Memorial - Tandragee
DESCRIPTION:
URL:http://mccni.co/event/george-hoy-memorial-tandragee/
LOCATION:Tandragee\, Tannaghmore Road\, Tandragee\, BT62 2LS\, United Kingdom
ATTACH;FMTTYPE=image/jpeg:http://mccni.co/wp-content/uploads/2024/02/420201222_814774537351541_2020349846045176973_n.jpg
END:VEVENT
BEGIN:VEVENT
DTSTART;VALUE=DATE:20260905
DTEND;VALUE=DATE:20260906
DTSTAMP:20260420T095033
CREATED:20260218T133628Z
LAST-MODIFIED:20260218T133628Z
UID:2486-1788566400-1788652799@mccni.co
SUMMARY:MCCNI Ulster Championship - Seaforde
DESCRIPTION:
URL:http://mccni.co/event/mccni-ulster-championship-seaforde/
LOCATION:Seaforde\, Drumgooland Road\, Seaforde\, BT30 8QW\, United Kingdom
ATTACH;FMTTYPE=image/png:http://mccni.co/wp-content/uploads/2013/12/mccni-logo-1.png
END:VEVENT
BEGIN:VEVENT
DTSTART;TZID=UTC:20260905T080000
DTEND;TZID=UTC:20260906T170000
DTSTAMP:20260420T095033
CREATED:20260326T194100Z
LAST-MODIFIED:20260326T194100Z
UID:2505-1788595200-1788714000@mccni.co
SUMMARY:NORA TEAM EVENT 2026
DESCRIPTION:Clubs will field 4 riders in each of the following classes:\nAuto | 65cc | SW85 | BW85 | Youth 125/250F | MX2 | MX1 | Vets\nThis event is all about club pride\, with teams battling it out for the Club Championship honours\, as well as a prize fund 🏆\n☘️ Team Ireland will be represented with MCCNI and 555 Promotions showcasing their talent and what we are made of ☘️\nA total of 32 riders will make up the team\, with selection to be confirmed by 12th July 2026.\n📋Rider requirements:\n*Must have competed in at least one event with either club\n*Must hold a full annual NORA licence\n🚨Important rules:\n*Adult riders who have scored points in the ACU British Championship (Pro MX1 / Pro MX2) are not eligible\n*Adult riders can only enter one class\n*Injured riders cannot be replaced from another class\n*Mechanical issues do not allow for rider substitutions\, but bikes can be swapped/borrowed\n☘️💥This is our chance to show the strength\, skill\, and determination of Team Ireland. It’s going to be a serious showdown💥☘️
URL:http://mccni.co/event/nora-team-event-2026/
END:VEVENT
END:VCALENDAR